BEGIN:VCALENDAR
VERSION:2.0
PRODID:-//The ELC - ECPv6.15.20//NONSGML v1.0//EN
CALSCALE:GREGORIAN
METHOD:PUBLISH
X-WR-CALNAME:The ELC
X-ORIGINAL-URL:https://lesbiangenius.org
X-WR-CALDESC:Events for The ELC
REFRESH-INTERVAL;VALUE=DURATION:PT1H
X-Robots-Tag:noindex
X-PUBLISHED-TTL:PT1H
BEGIN:VTIMEZONE
TZID:UTC
BEGIN:STANDARD
TZOFFSETFROM:+0000
TZOFFSETTO:+0000
TZNAME:UTC
DTSTART:20220101T000000
END:STANDARD
END:VTIMEZONE
BEGIN:VEVENT
DTSTART;TZID=UTC:20231211T130000
DTEND;TZID=UTC:20231211T143000
DTSTAMP:20260426T054630
CREATED:20231205T125806Z
LAST-MODIFIED:20231206T144930Z
UID:10000518-1702299600-1702305000@lesbiangenius.org
SUMMARY:Visible Voices: LBTQI Generations Unite
DESCRIPTION:In celebration of International Human Rights Day\, we are proud to present an online event that sheds light on the experiences and needs of two often underrepresented and marginalized groups within the LBTQI community: youth and elderly people. This event will reveal the findings of two essential research projects conducted by EL*C: the first research \,explores the lived experiences of older lesbians\, while the second\, conducted in collaboration with IGLYO\, focuses on the needs and experiences of LBTQI girls\, women\, and non-binary youth. \n  \nSpeakers: \n➡️ Dragana Todorovic & Anastasia Danilova from EL*C\,\n➡️ Bella FitzPatrick of IGLYO\,\n➡️ Susanne Knoefel from the EU Commission\,\n➡️ Reingard Wagner of Dachverband Lesben und Alter\, and\n➡️ Alexa Santos from Clube Safo.
URL:https://lesbiangenius.org/event/visible-voices-lbtqi-generations-unite/
LOCATION:Online (Zoom)
CATEGORIES:2023
ATTACH;FMTTYPE=image/webp:https://lesbiangenius.org/wp-content/uploads/visible-voices-_3_.webp
END:VEVENT
END:VCALENDAR